BEGIN:VCALENDAR
VERSION:2.0
PRODID:-//LifeSpring Church - ECPv5.1.1//NONSGML v1.0//EN
CALSCALE:GREGORIAN
METHOD:PUBLISH
X-WR-CALNAME:LifeSpring Church
X-ORIGINAL-URL:https://www.lifespringgoshen.org
X-WR-CALDESC:Events for LifeSpring Church
BEGIN:VTIMEZONE
TZID:UTC
BEGIN:STANDARD
TZOFFSETFROM:+0000
TZOFFSETTO:+0000
TZNAME:UTC
DTSTART:20190101T000000
END:STANDARD
END:VTIMEZONE
BEGIN:VEVENT
DTSTART;TZID=UTC:20190511T080000
DTEND;TZID=UTC:20190511T093000
DTSTAMP:20260419T183456
CREATED:20190516T152736Z
LAST-MODIFIED:20190516T152736Z
UID:374-1557561600-1557567000@www.lifespringgoshen.org
SUMMARY:Men's Breakfast
DESCRIPTION:
URL:https://www.lifespringgoshen.org/event/mens-breakfast/
END:VEVENT
END:VCALENDAR