BEGIN:VCALENDAR
VERSION:2.0
PRODID:-//LifeSpring Church - ECPv5.1.1//NONSGML v1.0//EN
CALSCALE:GREGORIAN
METHOD:PUBLISH
X-WR-CALNAME:LifeSpring Church
X-ORIGINAL-URL:https://www.lifespringgoshen.org
X-WR-CALDESC:Events for LifeSpring Church
BEGIN:VTIMEZONE
TZID:UTC
BEGIN:STANDARD
TZOFFSETFROM:+0000
TZOFFSETTO:+0000
TZNAME:UTC
DTSTART:20210101T000000
END:STANDARD
END:VTIMEZONE
BEGIN:VEVENT
DTSTART;TZID=UTC:20210404T070000
DTEND;TZID=UTC:20210404T073000
DTSTAMP:20260419T130121
CREATED:20210401T202600Z
LAST-MODIFIED:20210401T202602Z
UID:4056-1617519600-1617521400@www.lifespringgoshen.org
SUMMARY:Easter Sunrise Service
DESCRIPTION:
URL:https://www.lifespringgoshen.org/event/easter-sunrise-service/
LOCATION:Fidler Pond\, 1424 East Lincolnway\, Goshen\, Indiana
GEO:41.571763;-85.8091607
X-APPLE-STRUCTURED-LOCATION;VALUE=URI;X-ADDRESS=Fidler Pond 1424 East Lincolnway Goshen Indiana;X-APPLE-RADIUS=500;X-TITLE=1424 East Lincolnway:geo:-85.8091607,41.571763
END:VEVENT
END:VCALENDAR