BEGIN:VCALENDAR
VERSION:2.0
PRODID:-//LifeSpring Church - ECPv5.1.1//NONSGML v1.0//EN
CALSCALE:GREGORIAN
METHOD:PUBLISH
X-WR-CALNAME:LifeSpring Church
X-ORIGINAL-URL:https://www.lifespringgoshen.org
X-WR-CALDESC:Events for LifeSpring Church
BEGIN:VTIMEZONE
TZID:UTC
BEGIN:STANDARD
TZOFFSETFROM:+0000
TZOFFSETTO:+0000
TZNAME:UTC
DTSTART:20190101T000000
END:STANDARD
END:VTIMEZONE
BEGIN:VEVENT
DTSTART;TZID=UTC:20190518T180000
DTEND;TZID=UTC:20190518T200000
DTSTAMP:20260419T124227
CREATED:20190516T152411Z
LAST-MODIFIED:20190516T154050Z
UID:370-1558202400-1558209600@www.lifespringgoshen.org
SUMMARY:Connection Meal
DESCRIPTION:
URL:https://www.lifespringgoshen.org/event/connection-meal/
LOCATION:LifeSpring Church\, 116 S. 3rd Street\, Goshen\, IN\, 46526\, United States
ORGANIZER;CN="LifeSpring%20Church":MAILTO:lcc@lifespringcc.org
END:VEVENT
END:VCALENDAR