BEGIN:VCALENDAR
VERSION:2.0
PRODID:-//LifeSpring Church - ECPv5.1.1//NONSGML v1.0//EN
CALSCALE:GREGORIAN
METHOD:PUBLISH
X-WR-CALNAME:LifeSpring Church
X-ORIGINAL-URL:https://www.lifespringgoshen.org
X-WR-CALDESC:Events for LifeSpring Church
BEGIN:VTIMEZONE
TZID:UTC
BEGIN:STANDARD
TZOFFSETFROM:+0000
TZOFFSETTO:+0000
TZNAME:UTC
DTSTART:20190101T000000
END:STANDARD
END:VTIMEZONE
BEGIN:VEVENT
DTSTART;VALUE=DATE:20190607
DTEND;VALUE=DATE:20190610
DTSTAMP:20260419T125853
CREATED:20190516T152911Z
LAST-MODIFIED:20190530T170158Z
UID:376-1559865600-1560124799@www.lifespringgoshen.org
SUMMARY:AOT Equipping Weekend
DESCRIPTION:
URL:https://www.lifespringgoshen.org/event/aot-weekend/
END:VEVENT
END:VCALENDAR